BEGIN:VCALENDAR
VERSION:2.0
PRODID:icalendar-ruby
CALSCALE:GREGORIAN
METHOD:PUBLISH
BEGIN:VEVENT
DTSTAMP:20260421T123320Z
UID:227-149296@magnoliabaptist.church
DTSTART:20260719T190000Z
DTEND:20260719T220000Z
CLASS:PUBLIC
CREATED:20260416T043129
DESCRIPTION:
LAST-MODIFIED:20260416T043129
LOCATION:
SUMMARY:Block Party!
URL;VALUE=URI:https://www.magnoliabaptist.church/events/block-party--227/20
 26-07-19
END:VEVENT
END:VCALENDAR
