BEGIN:VCALENDAR
VERSION:2.0
PRODID:icalendar-ruby
CALSCALE:GREGORIAN
METHOD:PUBLISH
BEGIN:VEVENT
DTSTAMP:20260425T144211Z
UID:239-150819@magnoliabaptist.church
DTSTART:20260509T013000Z
DTEND:20260509T043000Z
CLASS:PUBLIC
CREATED:20260424T135218
DESCRIPTION:Our next board game night is scheduled for May 8th\, from 6:30 
 PM to 9:30 PM.  Join us upstairs in Fischer!
LAST-MODIFIED:20260424T135218
LOCATION:Fischer Upstairs
SUMMARY:Game Night
URL;VALUE=URI:https://www.magnoliabaptist.church/events/game-night--239/202
 6-05-08
ATTACH;FILENAME=Screenshot 2026-04-24 135140.png;FMTTYPE=image/png:https://
 dq5pwpg1q8ru0.cloudfront.net/2026/04/24/20/52/17/07c12569-29b5-4bfc-85f6-d
 bbb314e2549/Screenshot%202026-04-24%20135140.png
END:VEVENT
END:VCALENDAR
