BEGIN:VCALENDAR
VERSION:2.0
PRODID:icalendar-ruby
CALSCALE:GREGORIAN
METHOD:PUBLISH
BEGIN:VEVENT
DTSTAMP:20260425T144536Z
UID:237-150756@magnoliabaptist.church
DTSTART:20260507T153000Z
DTEND:20260507T170000Z
CLASS:PUBLIC
CREATED:20260424T084010
DESCRIPTION:The next MBC Walk-up Pantry will be on Thursday\, May 7th from 
 9 AM to 10:30 AM.   If you would like to volunteer to help\, please be a
 t MBC by 8:30 AM.  If you know anyone that needs the services we offer\, 
 feel free to bring them at 9 AM to sign up.\nFor more information talk wit
 h Dustin\, or send us a note - connect link
LAST-MODIFIED:20260424T084010
LOCATION:At MBC Campus
SUMMARY:Pantry
URL;VALUE=URI:https://www.magnoliabaptist.church/events/pantry/2026-05-07
ATTACH;FILENAME=Screenshot 2026-04-24 083642.png;FMTTYPE=image/png:https://
 dq5pwpg1q8ru0.cloudfront.net/2026/04/24/15/37/29/411382d0-97b0-4403-8afd-8
 0a182c751a9/Screenshot%202026-04-24%20083642.png
END:VEVENT
END:VCALENDAR
