BEGIN:VCALENDAR
VERSION:2.0
PRODID:icalendar-ruby
CALSCALE:GREGORIAN
METHOD:PUBLISH
BEGIN:VEVENT
DTSTAMP:20260425T144703Z
UID:238-150817@magnoliabaptist.church
DTSTART:20260503T180000Z
DTEND:20260503T190000Z
CLASS:PUBLIC
CREATED:20260424T134422
DESCRIPTION:Our next meeting is May 3rd in Room 422.  We meet at 11 AM rig
 ht after the main service.  Everone is welcome.  For more information se
 e Valerie Pugsley or Sylvia McCain.
LAST-MODIFIED:20260424T134422
LOCATION:Room 422 (Upstairs in the Sanctuary building)
SUMMARY:Purls to the World
URL;VALUE=URI:https://www.magnoliabaptist.church/events/purls-to-the-world-
 -238/2026-05-03
ATTACH;FILENAME=Purls.jpg;FMTTYPE=image/jpeg:https://dq5pwpg1q8ru0.cloudfro
 nt.net/2026/04/24/20/44/22/93e8636b-63fc-49ef-b9f4-9930368862ae/Purls.jpg
END:VEVENT
END:VCALENDAR
